Package: rbsurv Version: 2.67.0 Command: /Library/Frameworks/R.framework/Resources/bin/R CMD INSTALL rbsurv StartedAt: 2025-05-06 15:06:30 -0400 (Tue, 06 May 2025) EndedAt: 2025-05-06 15:06:33 -0400 (Tue, 06 May 2025) EllapsedTime: 3.1 seconds RetCode: 0 Status: OK