Package: rbsurv Version: 2.67.0 Command: /Library/Frameworks/R.framework/Resources/bin/R CMD check --install=check:rbsurv.install-out.txt --library=/Library/Frameworks/R.framework/Resources/library --no-vignettes --timings rbsurv_2.67.0.tar.gz StartedAt: 2025-05-07 21:24:49 -0400 (Wed, 07 May 2025) EndedAt: 2025-05-07 21:25:12 -0400 (Wed, 07 May 2025) EllapsedTime: 23.5 seconds RetCode: 0 Status: OK CheckDir: rbsurv.Rcheck Warnings: 0