Package: rbsurv Version: 2.67.0 Command: /Library/Frameworks/R.framework/Resources/bin/R CMD build --keep-empty-dirs --no-resave-data rbsurv StartedAt: 2025-05-07 17:25:42 -0400 (Wed, 07 May 2025) EndedAt: 2025-05-07 17:25:54 -0400 (Wed, 07 May 2025) EllapsedTime: 12.1 seconds RetCode: 0 Status: OK PackageFile: rbsurv_2.67.0.tar.gz PackageFileSize: 366 KiB