Package: rawrr Version: 1.15.10 Command: /home/biocbuild/R/R/bin/R CMD INSTALL rawrr StartedAt: 2025-01-29 19:30:39 -0000 (Wed, 29 Jan 2025) EndedAt: 2025-01-29 19:31:06 -0000 (Wed, 29 Jan 2025) EllapsedTime: 27.0 seconds RetCode: 0 Status: OK