Package: randRotation Version: 1.21.0 Command: rm -rf randRotation.buildbin-libdir && mkdir randRotation.buildbin-libdir && F:\biocbuild\bbs-3.22-bioc\R\bin\R.exe CMD INSTALL --build --library=randRotation.buildbin-libdir randRotation_1.21.0.tar.gz StartedAt: 2025-08-15 11:03:08 -0400 (Fri, 15 Aug 2025) EndedAt: 2025-08-15 11:03:41 -0400 (Fri, 15 Aug 2025) EllapsedTime: 33.4 seconds RetCode: 0 Status: OK PackageFile: randRotation_1.21.0.zip PackageFileSize: 1.13 MiB