Package: randPack Version: 1.55.0 Command: /home/biocbuild/bbs-3.22-bioc/R/bin/R CMD INSTALL randPack StartedAt: 2025-09-29 16:12:30 -0400 (Mon, 29 Sep 2025) EndedAt: 2025-09-29 16:12:35 -0400 (Mon, 29 Sep 2025) EllapsedTime: 5.1 seconds RetCode: 0 Status: OK