Package: randPack Version: 1.53.0 Command: /Library/Frameworks/R.framework/Resources/bin/R CMD check --install=check:randPack.install-out.txt --library=/Library/Frameworks/R.framework/Resources/library --no-vignettes --timings randPack_1.53.0.tar.gz StartedAt: 2025-02-16 22:29:27 -0500 (Sun, 16 Feb 2025) EndedAt: 2025-02-16 22:30:06 -0500 (Sun, 16 Feb 2025) EllapsedTime: 39.0 seconds RetCode: 0 Status: OK CheckDir: randPack.Rcheck Warnings: 0