Package: randPack Version: 1.53.0 Command: rm -rf randPack.buildbin-libdir && mkdir randPack.buildbin-libdir && /Users/biocbuild/BBS/utils/build-universal.sh randPack_1.53.0.tar.gz /Library/Frameworks/R.framework/Resources/bin/R randPack.buildbin-libdir StartedAt: 2025-02-17 00:37:23 -0500 (Mon, 17 Feb 2025) EndedAt: 2025-02-17 00:37:33 -0500 (Mon, 17 Feb 2025) EllapsedTime: 9.3 seconds RetCode: 0 Status: OK PackageFile: randPack_1.53.0.tgz PackageFileSize: 459.5 KiB