Package: randPack Version: 1.53.0 Command: /Library/Frameworks/R.framework/Resources/bin/R CMD INSTALL randPack StartedAt: 2025-02-16 15:01:30 -0500 (Sun, 16 Feb 2025) EndedAt: 2025-02-16 15:01:32 -0500 (Sun, 16 Feb 2025) EllapsedTime: 2.2 seconds RetCode: 0 Status: OK