Package: ramwas Version: 1.33.0 Command: /home/biocbuild/bbs-3.22-bioc/R/bin/R CMD INSTALL ramwas StartedAt: 2025-10-21 15:36:53 -0400 (Tue, 21 Oct 2025) EndedAt: 2025-10-21 15:37:27 -0400 (Tue, 21 Oct 2025) EllapsedTime: 33.9 seconds RetCode: 0 Status: OK