Package: ramwas Version: 1.33.0 Command: /home/biocbuild/bbs-3.22-bioc/R/bin/R CMD build --keep-empty-dirs --no-resave-data --md5 ramwas StartedAt: 2025-10-21 19:29:51 -0400 (Tue, 21 Oct 2025) EndedAt: 2025-10-21 19:34:02 -0400 (Tue, 21 Oct 2025) EllapsedTime: 250.3 seconds RetCode: 0 Status: OK PackageFile: ramwas_1.33.0.tar.gz PackageFileSize: 3.213 MiB