Package: ramr Version: 1.17.1 Command: chmod a+r ramr -R && F:\biocbuild\bbs-3.22-bioc\R\bin\R.exe CMD build --keep-empty-dirs --no-resave-data ramr StartedAt: 2025-08-14 22:35:33 -0400 (Thu, 14 Aug 2025) EndedAt: 2025-08-14 22:40:06 -0400 (Thu, 14 Aug 2025) EllapsedTime: 272.8 seconds RetCode: 0 Status: OK PackageFile: ramr_1.17.1.tar.gz PackageFileSize: 2.339 MiB