Package: ramr Version: 1.17.1 Command: rm -rf ramr.buildbin-libdir && mkdir ramr.buildbin-libdir && F:\biocbuild\bbs-3.22-bioc\R\bin\R.exe CMD INSTALL --build --library=ramr.buildbin-libdir ramr_1.17.1.tar.gz StartedAt: 2025-08-15 11:02:41 -0400 (Fri, 15 Aug 2025) EndedAt: 2025-08-15 11:05:38 -0400 (Fri, 15 Aug 2025) EllapsedTime: 177.2 seconds RetCode: 0 Status: OK PackageFile: ramr_1.17.1.zip PackageFileSize: 2.77 MiB