Package: rain Version: 1.43.0 Command: /home/biocbuild/bbs-3.22-bioc/R/bin/R CMD INSTALL rain StartedAt: 2025-10-01 15:14:39 -0400 (Wed, 01 Oct 2025) EndedAt: 2025-10-01 15:14:46 -0400 (Wed, 01 Oct 2025) EllapsedTime: 7.1 seconds RetCode: 0 Status: OK