Package: rain Version: 1.43.0 Command: /Library/Frameworks/R.framework/Resources/bin/R CMD build --keep-empty-dirs --no-resave-data rain StartedAt: 2025-05-27 17:15:44 -0400 (Tue, 27 May 2025) EndedAt: 2025-05-27 17:15:56 -0400 (Tue, 27 May 2025) EllapsedTime: 12.2 seconds RetCode: 0 Status: OK PackageFile: rain_1.43.0.tar.gz PackageFileSize: 604 KiB