Package: rWikiPathways Version: 1.29.1 Command: /home/biocbuild/bbs-3.22-bioc/R/bin/R CMD INSTALL rWikiPathways StartedAt: 2025-10-06 15:09:37 -0400 (Mon, 06 Oct 2025) EndedAt: 2025-10-06 15:09:46 -0400 (Mon, 06 Oct 2025) EllapsedTime: 8.7 seconds RetCode: 0 Status: OK