Package: rWikiPathways Version: 1.31.0 Command: /Library/Frameworks/R.framework/Resources/bin/R CMD INSTALL rWikiPathways StartedAt: 2025-11-18 15:16:25 -0500 (Tue, 18 Nov 2025) EndedAt: 2025-11-18 15:16:28 -0500 (Tue, 18 Nov 2025) EllapsedTime: 3.7 seconds RetCode: 0 Status: OK