Package: rTRMui Version: 1.47.0 Command: /home/biocbuild/bbs-3.22-bioc/R/bin/R CMD INSTALL rTRMui StartedAt: 2025-10-06 16:00:16 -0400 (Mon, 06 Oct 2025) EndedAt: 2025-10-06 16:01:05 -0400 (Mon, 06 Oct 2025) EllapsedTime: 49.0 seconds RetCode: 0 Status: OK