Package: rTRMui Version: 1.47.0 Command: /home/biocbuild/bbs-3.22-bioc/R/bin/R CMD build --keep-empty-dirs --no-resave-data --md5 rTRMui StartedAt: 2025-10-06 19:44:59 -0400 (Mon, 06 Oct 2025) EndedAt: 2025-10-06 19:46:07 -0400 (Mon, 06 Oct 2025) EllapsedTime: 68.1 seconds RetCode: 0 Status: OK PackageFile: rTRMui_1.47.0.tar.gz PackageFileSize: 1.111 MiB