Package: rTRMui Version: 1.47.0 Maintainer: Diego Diez MaintainerEmail: diego10ruiz at gmail.com git_url: https://git.bioconductor.org/packages/rTRMui git_branch: devel git_last_commit: 041cef4 git_last_commit_date: 2025-04-15 10:26:35 -0400 (Tue, 15 Apr 2025)