##############################################################################
##############################################################################
###
### Running command:
###
###   rm -rf rTRM.buildbin-libdir && mkdir rTRM.buildbin-libdir && E:\biocbuild\bbs-3.21-bioc\R\bin\R.exe CMD INSTALL --build --library=rTRM.buildbin-libdir rTRM_1.45.0.tar.gz
###
##############################################################################
##############################################################################


* installing *source* package 'rTRM' ...
** this is package 'rTRM' version '1.45.0'
** using staged installation
** R
** data
** inst
** byte-compile and prepare package for lazy loading
** help
Loading required package: igraph

Attaching package: 'igraph'

The following objects are masked from 'package:stats':

    decompose, spectrum

The following object is masked from 'package:base':

    union

This graph was created by an old(er) igraph version.
ℹ Call `igraph::upgrade_graph()` on it to use with the current igraph version.
For now we convert it on the fly...
This graph was created by an old(er) igraph version.
ℹ Call `igraph::upgrade_graph()` on it to use with the current igraph version.
For now we convert it on the fly...
*** installing help indices
** building package indices
** installing vignettes
** testing if installed package can be loaded from temporary location
** testing if installed package can be loaded from final location
** testing if installed package keeps a record of temporary installation path
* MD5 sums
packaged installation of 'rTRM' as rTRM_1.45.0.zip
* DONE (rTRM)