Package: rTRM Version: 1.45.0 Command: /Library/Frameworks/R.framework/Resources/bin/R CMD check --install=check:rTRM.install-out.txt --library=/Library/Frameworks/R.framework/Resources/library --no-vignettes --timings rTRM_1.45.0.tar.gz StartedAt: 2025-02-04 22:59:10 -0500 (Tue, 04 Feb 2025) EndedAt: 2025-02-04 23:01:14 -0500 (Tue, 04 Feb 2025) EllapsedTime: 123.1 seconds RetCode: 0 Status: OK CheckDir: rTRM.Rcheck Warnings: 0