Package: rTRM
Version: 1.45.0
Command: /Library/Frameworks/R.framework/Resources/bin/R CMD check --install=check:rTRM.install-out.txt --library=/Library/Frameworks/R.framework/Resources/library --no-vignettes --timings rTRM_1.45.0.tar.gz
StartedAt: 2025-02-12 21:11:18 -0500 (Wed, 12 Feb 2025)
EndedAt: 2025-02-12 21:11:59 -0500 (Wed, 12 Feb 2025)
EllapsedTime: 41.5 seconds
RetCode: 0
Status: OK
CheckDir: rTRM.Rcheck
Warnings: 0