Package: rTRM Version: 1.45.0 Command: /Library/Frameworks/R.framework/Resources/bin/R CMD build --keep-empty-dirs --no-resave-data rTRM StartedAt: 2025-02-04 17:28:34 -0500 (Tue, 04 Feb 2025) EndedAt: 2025-02-04 17:28:55 -0500 (Tue, 04 Feb 2025) EllapsedTime: 20.3 seconds RetCode: 0 Status: OK PackageFile: rTRM_1.45.0.tar.gz PackageFileSize: 3.552 MiB