Package: rScudo Version: 1.25.0 Command: /home/biocbuild/bbs-3.22-bioc/R/bin/R CMD build --keep-empty-dirs --no-resave-data --md5 rScudo StartedAt: 2025-10-10 19:54:44 -0400 (Fri, 10 Oct 2025) EndedAt: 2025-10-10 19:56:19 -0400 (Fri, 10 Oct 2025) EllapsedTime: 95.1 seconds RetCode: 0 Status: OK PackageFile: rScudo_1.25.0.tar.gz PackageFileSize: 774.5 KiB