Package: rScudo Version: 1.23.0 Command: /home/biocbuild/bbs-3.21-bioc/R/bin/R CMD INSTALL rScudo StartedAt: 2025-02-05 15:17:36 -0500 (Wed, 05 Feb 2025) EndedAt: 2025-02-05 15:17:39 -0500 (Wed, 05 Feb 2025) EllapsedTime: 3.3 seconds RetCode: 0 Status: OK