Package: rScudo Version: 1.23.0 Command: /Library/Frameworks/R.framework/Resources/bin/R CMD INSTALL rScudo StartedAt: 2025-02-05 15:04:57 -0500 (Wed, 05 Feb 2025) EndedAt: 2025-02-05 15:04:58 -0500 (Wed, 05 Feb 2025) EllapsedTime: 1.1 seconds RetCode: 0 Status: OK