Package: rSWeeP Version: 1.21.0 Command: chmod a+r rSWeeP -R && F:\biocbuild\bbs-3.22-bioc\R\bin\R.exe CMD build --keep-empty-dirs --no-resave-data rSWeeP StartedAt: 2025-08-14 22:54:32 -0400 (Thu, 14 Aug 2025) EndedAt: 2025-08-14 22:55:20 -0400 (Thu, 14 Aug 2025) EllapsedTime: 48.0 seconds RetCode: 0 Status: OK PackageFile: rSWeeP_1.21.0.tar.gz PackageFileSize: 297.2 KiB