Package: rRDP Version: 1.41.0 Command: E:\biocbuild\bbs-3.21-bioc\R\bin\R.exe CMD INSTALL rRDP StartedAt: 2025-02-03 15:53:27 -0500 (Mon, 03 Feb 2025) EndedAt: 2025-02-03 15:53:46 -0500 (Mon, 03 Feb 2025) EllapsedTime: 19.4 seconds RetCode: 0 Status: OK