Package: rRDP Version: 1.41.0 Command: chmod a+r rRDP -R && E:\biocbuild\bbs-3.21-bioc\R\bin\R.exe CMD build --keep-empty-dirs --no-resave-data rRDP StartedAt: 2025-02-03 21:31:42 -0500 (Mon, 03 Feb 2025) EndedAt: 2025-02-03 21:32:19 -0500 (Mon, 03 Feb 2025) EllapsedTime: 36.4 seconds RetCode: 0 Status: OK PackageFile: rRDP_1.41.0.tar.gz PackageFileSize: 2.594 MiB