Package: rRDP Version: 1.43.0 Command: /Library/Frameworks/R.framework/Resources/bin/R CMD INSTALL rRDP StartedAt: 2025-05-02 15:07:55 -0400 (Fri, 02 May 2025) EndedAt: 2025-05-02 15:08:00 -0400 (Fri, 02 May 2025) EllapsedTime: 4.7 seconds RetCode: 0 Status: OK