Package: rGenomeTracks Version: 1.13.0 Command: /home/biocbuild/bbs-3.21-bioc/R/bin/R CMD build --keep-empty-dirs --no-resave-data rGenomeTracks StartedAt: 2025-02-02 18:49:51 -0500 (Sun, 02 Feb 2025) EndedAt: 2025-02-02 18:50:03 -0500 (Sun, 02 Feb 2025) EllapsedTime: 11.0 seconds RetCode: 0 Status: OK PackageFile: rGenomeTracks_1.13.0.tar.gz PackageFileSize: 3.341 MiB