Package: rGREAT Version: 2.11.0 Command: chmod a+r rGREAT -R && F:\biocbuild\bbs-3.22-bioc\R\bin\R.exe CMD build --keep-empty-dirs --no-resave-data rGREAT StartedAt: 2025-08-14 22:45:22 -0400 (Thu, 14 Aug 2025) EndedAt: 2025-08-14 22:46:56 -0400 (Thu, 14 Aug 2025) EllapsedTime: 94.4 seconds RetCode: 0 Status: OK PackageFile: rGREAT_2.11.0.tar.gz PackageFileSize: 2.754 MiB