Package: rGREAT Version: 2.11.0 Command: rm -rf rGREAT.buildbin-libdir && mkdir rGREAT.buildbin-libdir && F:\biocbuild\bbs-3.22-bioc\R\bin\R.exe CMD INSTALL --build --library=rGREAT.buildbin-libdir rGREAT_2.11.0.tar.gz StartedAt: 2025-08-15 11:07:29 -0400 (Fri, 15 Aug 2025) EndedAt: 2025-08-15 11:09:07 -0400 (Fri, 15 Aug 2025) EllapsedTime: 98.1 seconds RetCode: 0 Status: OK PackageFile: rGREAT_2.11.0.zip PackageFileSize: 3.745 MiB