Package: rGADEM Version: 2.55.0 Command: E:\biocbuild\bbs-3.21-bioc\R\bin\R.exe CMD INSTALL rGADEM StartedAt: 2025-02-02 16:22:28 -0500 (Sun, 02 Feb 2025) EndedAt: 2025-02-02 16:23:41 -0500 (Sun, 02 Feb 2025) EllapsedTime: 72.6 seconds RetCode: 0 Status: OK