Package: rGADEM Version: 2.55.0 Command: E:\biocbuild\bbs-3.21-bioc\R\bin\R.exe CMD check --no-multiarch --install=check:rGADEM.install-out.txt --library=E:\biocbuild\bbs-3.21-bioc\R\library --no-vignettes --timings rGADEM_2.55.0.tar.gz StartedAt: 2025-02-06 05:09:18 -0500 (Thu, 06 Feb 2025) EndedAt: 2025-02-06 05:14:45 -0500 (Thu, 06 Feb 2025) EllapsedTime: 326.7 seconds RetCode: 0 Status: WARNINGS CheckDir: rGADEM.Rcheck Warnings: 1