Package: rGADEM Version: 2.55.0 Command: chmod a+r rGADEM -R && E:\biocbuild\bbs-3.21-bioc\R\bin\R.exe CMD build --keep-empty-dirs --no-resave-data rGADEM StartedAt: 2025-02-02 21:06:36 -0500 (Sun, 02 Feb 2025) EndedAt: 2025-02-02 21:09:38 -0500 (Sun, 02 Feb 2025) EllapsedTime: 182.0 seconds RetCode: 0 Status: OK PackageFile: rGADEM_2.55.0.tar.gz PackageFileSize: 224.8 KiB