Package: rGADEM Version: 2.55.0 Command: rm -rf rGADEM.buildbin-libdir && mkdir rGADEM.buildbin-libdir && E:\biocbuild\bbs-3.21-bioc\R\bin\R.exe CMD INSTALL --build --library=rGADEM.buildbin-libdir rGADEM_2.55.0.tar.gz StartedAt: 2025-02-06 08:50:09 -0500 (Thu, 06 Feb 2025) EndedAt: 2025-02-06 08:51:27 -0500 (Thu, 06 Feb 2025) EllapsedTime: 78.9 seconds RetCode: 0 Status: OK PackageFile: rGADEM_2.55.0.zip PackageFileSize: 529.2 KiB