Package: rGADEM Version: 2.55.0 Command: /home/biocbuild/bbs-3.21-bioc/R/bin/R CMD check --install=check:rGADEM.install-out.txt --library=/home/biocbuild/bbs-3.21-bioc/R/site-library --timings rGADEM_2.55.0.tar.gz StartedAt: 2025-02-04 01:59:29 -0500 (Tue, 04 Feb 2025) EndedAt: 2025-02-04 02:04:31 -0500 (Tue, 04 Feb 2025) EllapsedTime: 301.6 seconds RetCode: 0 Status: WARNINGS CheckDir: rGADEM.Rcheck Warnings: 1