Package: rGADEM Version: 2.55.0 Command: /Library/Frameworks/R.framework/Resources/bin/R CMD check --install=check:rGADEM.install-out.txt --library=/Library/Frameworks/R.framework/Resources/library --no-vignettes --timings rGADEM_2.55.0.tar.gz StartedAt: 2025-02-02 22:38:12 -0500 (Sun, 02 Feb 2025) EndedAt: 2025-02-02 22:42:12 -0500 (Sun, 02 Feb 2025) EllapsedTime: 239.6 seconds RetCode: 0 Status: WARNINGS CheckDir: rGADEM.Rcheck Warnings: 1