Package: rGADEM Version: 2.55.0 Command: rm -rf rGADEM.buildbin-libdir && mkdir rGADEM.buildbin-libdir && /Users/biocbuild/BBS/utils/build-universal.sh rGADEM_2.55.0.tar.gz /Library/Frameworks/R.framework/Resources/bin/R rGADEM.buildbin-libdir StartedAt: 2025-02-06 00:48:02 -0500 (Thu, 06 Feb 2025) EndedAt: 2025-02-06 00:49:17 -0500 (Thu, 06 Feb 2025) EllapsedTime: 74.9 seconds RetCode: 0 Status: OK PackageFile: rGADEM_2.55.0.tgz PackageFileSize: 687.4 KiB