Package: rGADEM Version: 2.55.0 Command: /Library/Frameworks/R.framework/Resources/bin/R CMD check --install=check:rGADEM.install-out.txt --library=/Library/Frameworks/R.framework/Resources/library --no-vignettes --timings rGADEM_2.55.0.tar.gz StartedAt: 2025-02-05 21:02:18 -0500 (Wed, 05 Feb 2025) EndedAt: 2025-02-05 21:03:46 -0500 (Wed, 05 Feb 2025) EllapsedTime: 88.2 seconds RetCode: 0 Status: WARNINGS CheckDir: rGADEM.Rcheck Warnings: 1