Package: rGADEM Version: 2.55.0 Command: /Library/Frameworks/R.framework/Resources/bin/R CMD build --keep-empty-dirs --no-resave-data rGADEM StartedAt: 2025-02-05 17:25:15 -0500 (Wed, 05 Feb 2025) EndedAt: 2025-02-05 17:25:43 -0500 (Wed, 05 Feb 2025) EllapsedTime: 28.3 seconds RetCode: 0 Status: OK PackageFile: rGADEM_2.55.0.tar.gz PackageFileSize: 376.7 KiB