Package: rCGH Version: 1.39.1 Command: /home/biocbuild/bbs-3.22-bioc/R/bin/R CMD INSTALL rCGH StartedAt: 2025-10-13 16:03:15 -0400 (Mon, 13 Oct 2025) EndedAt: 2025-10-13 16:04:00 -0400 (Mon, 13 Oct 2025) EllapsedTime: 45.0 seconds RetCode: 0 Status: OK