Package: rCGH Version: 1.39.1 Command: /home/biocbuild/bbs-3.22-bioc/R/bin/R CMD build --keep-empty-dirs --no-resave-data --md5 rCGH StartedAt: 2025-10-13 19:36:00 -0400 (Mon, 13 Oct 2025) EndedAt: 2025-10-13 19:37:32 -0400 (Mon, 13 Oct 2025) EllapsedTime: 92.1 seconds RetCode: 0 Status: OK PackageFile: rCGH_1.39.1.tar.gz PackageFileSize: 4.036 MiB