Package: rCGH Version: 1.39.0 Command: /Library/Frameworks/R.framework/Resources/bin/R CMD INSTALL rCGH StartedAt: 2025-05-22 15:49:12 -0400 (Thu, 22 May 2025) EndedAt: 2025-05-22 15:50:07 -0400 (Thu, 22 May 2025) EllapsedTime: 54.4 seconds RetCode: 0 Status: OK