Package: rCGH Version: 1.39.0 Command: /Library/Frameworks/R.framework/Resources/bin/R CMD build --keep-empty-dirs --no-resave-data rCGH StartedAt: 2025-05-26 18:20:55 -0400 (Mon, 26 May 2025) EndedAt: 2025-05-26 18:22:36 -0400 (Mon, 26 May 2025) EllapsedTime: 100.8 seconds RetCode: 0 Status: OK PackageFile: rCGH_1.39.0.tar.gz PackageFileSize: 3.783 MiB