Package: rBiopaxParser Version: 2.49.0 Command: /home/biocbuild/R/R/bin/R CMD build --keep-empty-dirs --no-resave-data rBiopaxParser StartedAt: 2025-10-03 02:26:57 -0000 (Fri, 03 Oct 2025) EndedAt: 2025-10-03 02:27:07 -0000 (Fri, 03 Oct 2025) EllapsedTime: 10.0 seconds RetCode: 0 Status: OK PackageFile: rBiopaxParser_2.49.0.tar.gz PackageFileSize: 890.7 KiB