Package: rBiopaxParser Version: 2.49.0 Command: F:\biocbuild\bbs-3.22-bioc\R\bin\R.exe CMD INSTALL rBiopaxParser StartedAt: 2025-08-14 15:17:37 -0400 (Thu, 14 Aug 2025) EndedAt: 2025-08-14 15:18:21 -0400 (Thu, 14 Aug 2025) EllapsedTime: 44.2 seconds RetCode: 0 Status: OK