Package: rBiopaxParser Version: 2.49.0 Command: /Library/Frameworks/R.framework/Resources/bin/R CMD INSTALL rBiopaxParser StartedAt: 2025-05-18 15:01:20 -0400 (Sun, 18 May 2025) EndedAt: 2025-05-18 15:01:23 -0400 (Sun, 18 May 2025) EllapsedTime: 3.0 seconds RetCode: 0 Status: OK